BEGIN:VCALENDAR
VERSION:2.0
PRODID:-//Rollerclub Tongeren - ECPv6.15.20//NONSGML v1.0//EN
CALSCALE:GREGORIAN
METHOD:PUBLISH
X-WR-CALNAME:Rollerclub Tongeren
X-ORIGINAL-URL:https://rollerclubtongeren.be
X-WR-CALDESC:Events voor Rollerclub Tongeren
REFRESH-INTERVAL;VALUE=DURATION:PT1H
X-Robots-Tag:noindex
X-PUBLISHED-TTL:PT1H
BEGIN:VTIMEZONE
TZID:UTC
BEGIN:STANDARD
TZOFFSETFROM:+0000
TZOFFSETTO:+0000
TZNAME:UTC
DTSTART:20250101T000000
END:STANDARD
END:VTIMEZONE
BEGIN:VEVENT
DTSTART;TZID=UTC:20260627T080000
DTEND;TZID=UTC:20260627T170000
DTSTAMP:20260420T125955
CREATED:20260410T185148Z
LAST-MODIFIED:20260410T185148Z
UID:589-1782547200-1782579600@rollerclubtongeren.be
SUMMARY:Skatecontest 2026
DESCRIPTION:Datum: zaterdag 27 juni 2026 \nIedereen welkom met jullie mooiste tricks!!
URL:https://rollerclubtongeren.be/index.php/event/skatecontest-2026/
END:VEVENT
END:VCALENDAR