BEGIN:VCALENDAR
VERSION:2.0
PRODID:-//Rollerclub Tongeren - ECPv6.15.20//NONSGML v1.0//EN
CALSCALE:GREGORIAN
METHOD:PUBLISH
X-WR-CALNAME:Rollerclub Tongeren
X-ORIGINAL-URL:https://rollerclubtongeren.be
X-WR-CALDESC:Events voor Rollerclub Tongeren
REFRESH-INTERVAL;VALUE=DURATION:PT1H
X-Robots-Tag:noindex
X-PUBLISHED-TTL:PT1H
BEGIN:VTIMEZONE
TZID:Europe/Brussels
BEGIN:DAYLIGHT
TZOFFSETFROM:+0100
TZOFFSETTO:+0200
TZNAME:CEST
DTSTART:20230326T010000
END:DAYLIGHT
BEGIN:STANDARD
TZOFFSETFROM:+0200
TZOFFSETTO:+0100
TZNAME:CET
DTSTART:20231029T010000
END:STANDARD
BEGIN:DAYLIGHT
TZOFFSETFROM:+0100
TZOFFSETTO:+0200
TZNAME:CEST
DTSTART:20240331T010000
END:DAYLIGHT
BEGIN:STANDARD
TZOFFSETFROM:+0200
TZOFFSETTO:+0100
TZNAME:CET
DTSTART:20241027T010000
END:STANDARD
BEGIN:DAYLIGHT
TZOFFSETFROM:+0100
TZOFFSETTO:+0200
TZNAME:CEST
DTSTART:20250330T010000
END:DAYLIGHT
BEGIN:STANDARD
TZOFFSETFROM:+0200
TZOFFSETTO:+0100
TZNAME:CET
DTSTART:20251026T010000
END:STANDARD
END:VTIMEZONE
BEGIN:VEVENT
DTSTART;TZID=Europe/Brussels:20241026T170000
DTEND;TZID=Europe/Brussels:20241026T210000
DTSTAMP:20260421T014853
CREATED:20241015T162050Z
LAST-MODIFIED:20241025T091445Z
UID:521-1729962000-1729976400@rollerclubtongeren.be
SUMMARY:Rollerdisco
DESCRIPTION:Op zaterdag 26 oktober organiseren we opnieuw een ROLLERDISCO. Dit zal doorgaan in de sporthal van de TIO tussen 17u en 21u. Toegang kost € 10 / persoon inclusief pizza! Zowel voor leden als niet-leden\, allen welkom. Inschrijven via onderstaande link en het bedrag storten op volgende rekening: BE81-7795-9500-6724 op naam van Rollerclub Tongeren. Link: https://forms.office.com/r/QDFXVMWNMY – (18/09/24)
URL:https://rollerclubtongeren.be/index.php/event/rollerdisco/
LOCATION:Sporthal TIO\, Koninksemsteenweg 79\, Tongeren\, Limburg\, 3700\, Belgium
END:VEVENT
END:VCALENDAR